BEGIN:VCALENDAR
VERSION:2.0
PRODID:-//California Mathematics Project - ECPv6.15.17//NONSGML v1.0//EN
CALSCALE:GREGORIAN
METHOD:PUBLISH
X-WR-CALNAME:California Mathematics Project
X-ORIGINAL-URL:https://cmpso.org
X-WR-CALDESC:Events for California Mathematics Project
REFRESH-INTERVAL;VALUE=DURATION:PT1H
X-Robots-Tag:noindex
X-PUBLISHED-TTL:PT1H
BEGIN:VTIMEZONE
TZID:America/Los_Angeles
BEGIN:DAYLIGHT
TZOFFSETFROM:-0800
TZOFFSETTO:-0700
TZNAME:PDT
DTSTART:20230312T100000
END:DAYLIGHT
BEGIN:STANDARD
TZOFFSETFROM:-0700
TZOFFSETTO:-0800
TZNAME:PST
DTSTART:20231105T090000
END:STANDARD
BEGIN:DAYLIGHT
TZOFFSETFROM:-0800
TZOFFSETTO:-0700
TZNAME:PDT
DTSTART:20240310T100000
END:DAYLIGHT
BEGIN:STANDARD
TZOFFSETFROM:-0700
TZOFFSETTO:-0800
TZNAME:PST
DTSTART:20241103T090000
END:STANDARD
BEGIN:DAYLIGHT
TZOFFSETFROM:-0800
TZOFFSETTO:-0700
TZNAME:PDT
DTSTART:20250309T100000
END:DAYLIGHT
BEGIN:STANDARD
TZOFFSETFROM:-0700
TZOFFSETTO:-0800
TZNAME:PST
DTSTART:20251102T090000
END:STANDARD
END:VTIMEZONE
BEGIN:VEVENT
DTSTART;TZID=America/Los_Angeles:20240624T080000
DTEND;TZID=America/Los_Angeles:20240628T170000
DTSTAMP:20260423T152018
CREATED:20240402T170234Z
LAST-MODIFIED:20240402T170234Z
UID:4507-1719216000-1719594000@cmpso.org
SUMMARY:CANMEE Lesson Study Institute
DESCRIPTION:Elevating Math Excellence and Social Justice in Lesson Study:\nExperience the power of the CANMEE High-Quality Lesson Study with your team.\nThis model maintains a dual-focus on learning math content and equity. Participate\nin student-centered\, teacher-directed professional learning. Leave the Institute\nprepared to engage in lesson study when the school year begins. Become part of an\nongoing community focused on centering students and their thinking.
URL:https://cmpso.org/event/canmee-lesson-study-institute-3/
LOCATION:CSU Chancellor’s Office
CATEGORIES:CANMEE
ATTACH;FMTTYPE=image/jpeg:https://cmpso.org/wp-content/uploads/2024/04/LS-Institute-2024_Flyer-scaled.jpg
END:VEVENT
END:VCALENDAR