BEGIN:VCALENDAR
VERSION:2.0
PRODID:-//California Mathematics Project - ECPv6.15.17//NONSGML v1.0//EN
CALSCALE:GREGORIAN
METHOD:PUBLISH
X-WR-CALNAME:California Mathematics Project
X-ORIGINAL-URL:https://cmpso.org
X-WR-CALDESC:Events for California Mathematics Project
REFRESH-INTERVAL;VALUE=DURATION:PT1H
X-Robots-Tag:noindex
X-PUBLISHED-TTL:PT1H
BEGIN:VTIMEZONE
TZID:America/Los_Angeles
BEGIN:DAYLIGHT
TZOFFSETFROM:-0800
TZOFFSETTO:-0700
TZNAME:PDT
DTSTART:20230312T100000
END:DAYLIGHT
BEGIN:STANDARD
TZOFFSETFROM:-0700
TZOFFSETTO:-0800
TZNAME:PST
DTSTART:20231105T090000
END:STANDARD
BEGIN:DAYLIGHT
TZOFFSETFROM:-0800
TZOFFSETTO:-0700
TZNAME:PDT
DTSTART:20240310T100000
END:DAYLIGHT
BEGIN:STANDARD
TZOFFSETFROM:-0700
TZOFFSETTO:-0800
TZNAME:PST
DTSTART:20241103T090000
END:STANDARD
BEGIN:DAYLIGHT
TZOFFSETFROM:-0800
TZOFFSETTO:-0700
TZNAME:PDT
DTSTART:20250309T100000
END:DAYLIGHT
BEGIN:STANDARD
TZOFFSETFROM:-0700
TZOFFSETTO:-0800
TZNAME:PST
DTSTART:20251102T090000
END:STANDARD
END:VTIMEZONE
BEGIN:VEVENT
DTSTART;TZID=America/Los_Angeles:20240503T080000
DTEND;TZID=America/Los_Angeles:20240504T170000
DTSTAMP:20260423T135447
CREATED:20240311T050109Z
LAST-MODIFIED:20240314T171557Z
UID:4495-1714723200-1714842000@cmpso.org
SUMMARY:Lesson Study Annual Convening
DESCRIPTION:Elevating mathematics excellence and social justice in lesson study.
URL:https://cmpso.org/event/lesson-study-annual-convening/
LOCATION:Sonoma State University
CATEGORIES:CANMEE
ATTACH;FMTTYPE=image/png:https://cmpso.org/wp-content/uploads/2024/03/Annual-Convening_May-3-4-2024_Flyer.png
END:VEVENT
BEGIN:VEVENT
DTSTART;TZID=America/Los_Angeles:20240528T090000
DTEND;TZID=America/Los_Angeles:20240528T120000
DTSTAMP:20260423T135447
CREATED:20240528T202519Z
LAST-MODIFIED:20240528T202519Z
UID:4515-1716886800-1716897600@cmpso.org
SUMMARY:An Introduction to Argumentation for Grades 3-9
DESCRIPTION:Join our math teacher leaders to experience SMP 3 Argumentation and its connections with SMP 6\, 7\, and 8.  Through hands-on experiences\, you will learn how to form\, collect\, and revise conjectures.  Then you will collect more evidence and construct a class conjecture.  The group will collaboratively draft a justification.  The team will be explicit about ways to facilitate and support argumentation in your classroom.  Participants will receive a copy of “Teaching with Mathematical Argument: Strategies for Supporting Everyday Instruction” by Stylianou and Blanton.
URL:https://cmpso.org/event/an-introduction-to-argumentation-for-grades-3-9/
LOCATION:Online\, Santa Cruz
CATEGORIES:For Educators
ATTACH;FMTTYPE=image/jpeg:https://cmpso.org/wp-content/uploads/2024/05/August-2024-Arg-copy.jpg
END:VEVENT
END:VCALENDAR