BEGIN:VCALENDAR
VERSION:2.0
PRODID:-//California Mathematics Project - ECPv6.15.17//NONSGML v1.0//EN
CALSCALE:GREGORIAN
METHOD:PUBLISH
X-ORIGINAL-URL:https://cmpso.org
X-WR-CALDESC:Events for California Mathematics Project
REFRESH-INTERVAL;VALUE=DURATION:PT1H
X-Robots-Tag:noindex
X-PUBLISHED-TTL:PT1H
BEGIN:VTIMEZONE
TZID:America/Los_Angeles
BEGIN:DAYLIGHT
TZOFFSETFROM:-0800
TZOFFSETTO:-0700
TZNAME:PDT
DTSTART:20220313T100000
END:DAYLIGHT
BEGIN:STANDARD
TZOFFSETFROM:-0700
TZOFFSETTO:-0800
TZNAME:PST
DTSTART:20221106T090000
END:STANDARD
BEGIN:DAYLIGHT
TZOFFSETFROM:-0800
TZOFFSETTO:-0700
TZNAME:PDT
DTSTART:20230312T100000
END:DAYLIGHT
BEGIN:STANDARD
TZOFFSETFROM:-0700
TZOFFSETTO:-0800
TZNAME:PST
DTSTART:20231105T090000
END:STANDARD
BEGIN:DAYLIGHT
TZOFFSETFROM:-0800
TZOFFSETTO:-0700
TZNAME:PDT
DTSTART:20240310T100000
END:DAYLIGHT
BEGIN:STANDARD
TZOFFSETFROM:-0700
TZOFFSETTO:-0800
TZNAME:PST
DTSTART:20241103T090000
END:STANDARD
END:VTIMEZONE
BEGIN:VEVENT
DTSTART;TZID=America/Los_Angeles:20230828T160000
DTEND;TZID=America/Los_Angeles:20230828T180000
DTSTAMP:20260423T045414
CREATED:20230731T234738Z
LAST-MODIFIED:20230823T225654Z
UID:4448-1693238400-1693245600@cmpso.org
SUMMARY:CANMEE Lesson Study Facilitators Online Course
DESCRIPTION:Goal: Deepen your understanding of effective ways to start\, facilitate\, and support a CANMEE\nlesson study team with a dual focus on the student (or equity) and math. \nWho Should Attend:\nLeaders interested in facilitating CANMEE lesson study \nRecommended prerequisites\n● Knowledge of the CANMEE lesson study process\n● Experience in lesson study either as a participant or facilitator
URL:https://cmpso.org/event/canmee-lesson-study-facilitators-online-course-3/
LOCATION:Online\, Santa Cruz
CATEGORIES:CANMEE,For Educators
ATTACH;FMTTYPE=image/jpeg:https://cmpso.org/wp-content/uploads/2023/07/CANMEE-Lesson-Study-Facilitator-Course-Aug-Oct-2023-scaled.jpg
ORGANIZER;CN="CMP Statewide Office":MAILTO:apark@gseis.ucla.edu
END:VEVENT
BEGIN:VEVENT
DTSTART;TZID=America/Los_Angeles:20231014T090000
DTEND;TZID=America/Los_Angeles:20231014T120000
DTSTAMP:20260423T045414
CREATED:20230508T164437Z
LAST-MODIFIED:20230508T164437Z
UID:4406-1697274000-1697284800@cmpso.org
SUMMARY:Fostering Ratio and Proportional Reasoning\, Part A\, grades 6-9
DESCRIPTION:Join our teacher leaders  to deepen your own understanding and learn powerful strategies for building proportional reasoning in your students.  This PD series will focus on multiple representations with ratios\, percent ratio comparisons\, rate of change\, and measurement.
URL:https://cmpso.org/event/fostering-ratio-and-proportional-reasoning-part-a-grades-6-9/
LOCATION:Online\, Santa Cruz
CATEGORIES:For Educators
ATTACH;FMTTYPE=image/png:https://cmpso.org/wp-content/uploads/2023/05/Oct-2023-Part-A-Fostering-Ratio-and-Proportional-Reasoning-in-Grades-6-9-1.png
END:VEVENT
END:VCALENDAR