BEGIN:VCALENDAR
VERSION:2.0
PRODID:-//California Mathematics Project - ECPv6.15.17//NONSGML v1.0//EN
CALSCALE:GREGORIAN
METHOD:PUBLISH
X-WR-CALNAME:California Mathematics Project
X-ORIGINAL-URL:https://cmpso.org
X-WR-CALDESC:Events for California Mathematics Project
REFRESH-INTERVAL;VALUE=DURATION:PT1H
X-Robots-Tag:noindex
X-PUBLISHED-TTL:PT1H
BEGIN:VTIMEZONE
TZID:America/Los_Angeles
BEGIN:DAYLIGHT
TZOFFSETFROM:-0800
TZOFFSETTO:-0700
TZNAME:PDT
DTSTART:20220313T100000
END:DAYLIGHT
BEGIN:STANDARD
TZOFFSETFROM:-0700
TZOFFSETTO:-0800
TZNAME:PST
DTSTART:20221106T090000
END:STANDARD
BEGIN:DAYLIGHT
TZOFFSETFROM:-0800
TZOFFSETTO:-0700
TZNAME:PDT
DTSTART:20230312T100000
END:DAYLIGHT
BEGIN:STANDARD
TZOFFSETFROM:-0700
TZOFFSETTO:-0800
TZNAME:PST
DTSTART:20231105T090000
END:STANDARD
BEGIN:DAYLIGHT
TZOFFSETFROM:-0800
TZOFFSETTO:-0700
TZNAME:PDT
DTSTART:20240310T100000
END:DAYLIGHT
BEGIN:STANDARD
TZOFFSETFROM:-0700
TZOFFSETTO:-0800
TZNAME:PST
DTSTART:20241103T090000
END:STANDARD
END:VTIMEZONE
BEGIN:VEVENT
DTSTART;VALUE=DATE:20230711
DTEND;VALUE=DATE:20230714
DTSTAMP:20260423T063106
CREATED:20230608T175806Z
LAST-MODIFIED:20230608T181923Z
UID:4439-1689033600-1689292799@cmpso.org
SUMMARY:Reasoning for Justice
DESCRIPTION:Helping middle school students use math to understand and address injustices.\nLearn to connect each student’s agency/identity to social justice and mathematics. Learn strategies\, routines\, and lesson designs with colleagues.
URL:https://cmpso.org/event/reasoning-for-justice/
LOCATION:Virtual/Zoom
CATEGORIES:For Educators
ATTACH;FMTTYPE=image/png:https://cmpso.org/wp-content/uploads/2023/06/Screenshot-2023-06-08-at-12.00.24-PM.png
END:VEVENT
BEGIN:VEVENT
DTSTART;TZID=America/Los_Angeles:20230720T080000
DTEND;TZID=America/Los_Angeles:20230723T153000
DTSTAMP:20260423T063106
CREATED:20230530T203348Z
LAST-MODIFIED:20230530T204010Z
UID:4420-1689840000-1690126200@cmpso.org
SUMMARY:Cognitively-Guided Instruction (CGI) Workshop
DESCRIPTION:Date/Time: Tuesday-Friday\, June 20-23\, 2023\, 8:30 a.m.-3:30 p.m.\nLocation: Fresno State – Kremen Education Building\nFee: $650 • Please send PO and/or check (made payable to Fresno State Foundation) to:\nSJVMP c/o NeFesha Ruth Yisra’el\n5005 N. Maple Ave. M/S ED 2\nFresno\, CA 93740-8025 \n  \n\nBeginning CGI Teachers will:\n\nIncrease knowledge of student mathematical\nthinking and understanding\nLearn typical strategies students use to solve\nmath problems\nLearn to infuse CGI strategies in your\ninstruction\nLearn how to effectively integrate the\nStandards for Mathematical Practice into\nmathematics instruction\nEnhance instructional decision making\nView CGI classroom practice
URL:https://cmpso.org/event/cognitively-guided-instruction-cgi-workshop/
LOCATION:Online\, Santa Cruz
ATTACH;FMTTYPE=image/jpeg:https://cmpso.org/wp-content/uploads/2023/05/CGI-Workshop.jpg
END:VEVENT
END:VCALENDAR